BEGIN:VCALENDAR
VERSION:2.0
PRODID:-//Tour2Chauffe - ECPv6.15.20//NONSGML v1.0//EN
CALSCALE:GREGORIAN
METHOD:PUBLISH
X-WR-CALNAME:Tour2Chauffe
X-ORIGINAL-URL:https://tour2chauffe.org
X-WR-CALDESC:Évènements pour Tour2Chauffe
REFRESH-INTERVAL;VALUE=DURATION:PT1H
X-Robots-Tag:noindex
X-PUBLISHED-TTL:PT1H
BEGIN:VTIMEZONE
TZID:Europe/Paris
BEGIN:DAYLIGHT
TZOFFSETFROM:+0100
TZOFFSETTO:+0200
TZNAME:CEST
DTSTART:20190331T010000
END:DAYLIGHT
BEGIN:STANDARD
TZOFFSETFROM:+0200
TZOFFSETTO:+0100
TZNAME:CET
DTSTART:20191027T010000
END:STANDARD
BEGIN:DAYLIGHT
TZOFFSETFROM:+0100
TZOFFSETTO:+0200
TZNAME:CEST
DTSTART:20200329T010000
END:DAYLIGHT
BEGIN:STANDARD
TZOFFSETFROM:+0200
TZOFFSETTO:+0100
TZNAME:CET
DTSTART:20201025T010000
END:STANDARD
BEGIN:DAYLIGHT
TZOFFSETFROM:+0100
TZOFFSETTO:+0200
TZNAME:CEST
DTSTART:20210328T010000
END:DAYLIGHT
BEGIN:STANDARD
TZOFFSETFROM:+0200
TZOFFSETTO:+0100
TZNAME:CET
DTSTART:20211031T010000
END:STANDARD
BEGIN:DAYLIGHT
TZOFFSETFROM:+0100
TZOFFSETTO:+0200
TZNAME:CEST
DTSTART:20220327T010000
END:DAYLIGHT
BEGIN:STANDARD
TZOFFSETFROM:+0200
TZOFFSETTO:+0100
TZNAME:CET
DTSTART:20221030T010000
END:STANDARD
BEGIN:DAYLIGHT
TZOFFSETFROM:+0100
TZOFFSETTO:+0200
TZNAME:CEST
DTSTART:20230326T010000
END:DAYLIGHT
BEGIN:STANDARD
TZOFFSETFROM:+0200
TZOFFSETTO:+0100
TZNAME:CET
DTSTART:20231029T010000
END:STANDARD
END:VTIMEZONE
BEGIN:VEVENT
DTSTART;TZID=Europe/Paris:20220806T080000
DTEND;TZID=Europe/Paris:20220806T170000
DTSTAMP:20260423T153658
CREATED:20220329T145151Z
LAST-MODIFIED:20220425T093540Z
UID:6035-1659772800-1659805200@tour2chauffe.org
SUMMARY:Strange O'Clock- Scènes d'Etés // Carcans (33)
DESCRIPTION:
URL:https://tour2chauffe.org/event/strange-oclock-carcans-33
LOCATION:Carcans\, Carcans\, 33121\, France
CATEGORIES:Strange O'Clock
ATTACH;FMTTYPE=image/jpeg:https://tour2chauffe.org/wp-content/uploads/2021/11/18.jpg
END:VEVENT
BEGIN:VEVENT
DTSTART;VALUE=DATE:20220722
DTEND;VALUE=DATE:20220723
DTSTAMP:20260423T153658
CREATED:20220329T145008Z
LAST-MODIFIED:20220404T133800Z
UID:6031-1658448000-1658534399@tour2chauffe.org
SUMMARY:Strange O'Clock - Festival Blues // Petit Caux (76)
DESCRIPTION:
URL:https://tour2chauffe.org/event/strange-oclock-la-gare-du-petit-vaux-epinay-91
LOCATION:Petit Caux\, Petit Caux\, 76618\, France
CATEGORIES:Strange O'Clock
ATTACH;FMTTYPE=image/jpeg:https://tour2chauffe.org/wp-content/uploads/2021/11/18.jpg
END:VEVENT
BEGIN:VEVENT
DTSTART;TZID=Europe/Paris:20220721T080000
DTEND;TZID=Europe/Paris:20220721T170000
DTSTAMP:20260423T153658
CREATED:20220329T144637Z
LAST-MODIFIED:20220425T093653Z
UID:6027-1658390400-1658422800@tour2chauffe.org
SUMMARY:Strange O'Clock - Scènes d'Etés // Auray (56)
DESCRIPTION:
URL:https://tour2chauffe.org/event/strange-oclock-auray-56
LOCATION:Auray\, 56400
CATEGORIES:Strange O'Clock
ATTACH;FMTTYPE=image/jpeg:https://tour2chauffe.org/wp-content/uploads/2021/11/18.jpg
END:VEVENT
BEGIN:VEVENT
DTSTART;VALUE=DATE:20220713
DTEND;VALUE=DATE:20220714
DTSTAMP:20260423T153658
CREATED:20220329T143610Z
LAST-MODIFIED:20220425T093802Z
UID:6008-1657670400-1657756799@tour2chauffe.org
SUMMARY:Strange O'Clock - Le Sénéquet // Blainville sur mer (50)
DESCRIPTION:
URL:https://tour2chauffe.org/event/strange-oclock-l-e-senequet-blainville-sur-mer-50
LOCATION:le Sénéquet\, Rue de la Vieille Digue\, Blainville sur mer\, 50560\, France
CATEGORIES:Strange O'Clock
ATTACH;FMTTYPE=image/jpeg:https://tour2chauffe.org/wp-content/uploads/2021/11/STRANGE-PHOTOS-1-7.jpg
END:VEVENT
BEGIN:VEVENT
DTSTART;VALUE=DATE:20220712
DTEND;VALUE=DATE:20220713
DTSTAMP:20260423T153658
CREATED:20220329T144441Z
LAST-MODIFIED:20220425T093726Z
UID:6023-1657584000-1657670399@tour2chauffe.org
SUMMARY:Strange O'Clock - Yn'Patrimoine // Hautot Saint Suplice (76)
DESCRIPTION:
URL:https://tour2chauffe.org/event/strange-oclock-hautot-saint-suplice-76
LOCATION:Hautot Saint Supplice\, Hautot Saint Supplice\, 76348
CATEGORIES:Strange O'Clock
ATTACH;FMTTYPE=image/jpeg:https://tour2chauffe.org/wp-content/uploads/2021/11/STRANGE-PHOTOS-1-7.jpg
END:VEVENT
BEGIN:VEVENT
DTSTART;VALUE=DATE:20220701
DTEND;VALUE=DATE:20220702
DTSTAMP:20260423T153658
CREATED:20220329T144214Z
LAST-MODIFIED:20220425T093832Z
UID:6019-1656633600-1656719999@tour2chauffe.org
SUMMARY:Strange O'Clock - O p'tit Marais // Vix (85)
DESCRIPTION:
URL:https://tour2chauffe.org/event/strange-oclock-vix-85
LOCATION:Vix\, Vix\, 85770
CATEGORIES:Strange O'Clock
ATTACH;FMTTYPE=image/jpeg:https://tour2chauffe.org/wp-content/uploads/2021/11/18.jpg
END:VEVENT
BEGIN:VEVENT
DTSTART;VALUE=DATE:20220625
DTEND;VALUE=DATE:20220626
DTSTAMP:20260423T153658
CREATED:20220329T143859Z
LAST-MODIFIED:20220329T144009Z
UID:6012-1656115200-1656201599@tour2chauffe.org
SUMMARY:Strange O'Clock // Tourville sur Sienne (50)
DESCRIPTION:
URL:https://tour2chauffe.org/event/strange-oclock-blainville-sur-mer-50
LOCATION:Tourville sur Sienne
CATEGORIES:Strange O'Clock
ATTACH;FMTTYPE=image/jpeg:https://tour2chauffe.org/wp-content/uploads/2021/11/18.jpg
END:VEVENT
BEGIN:VEVENT
DTSTART;VALUE=DATE:20220526
DTEND;VALUE=DATE:20220527
DTSTAMP:20260423T153658
CREATED:20220328T132521Z
LAST-MODIFIED:20220328T132521Z
UID:6004-1653523200-1653609599@tour2chauffe.org
SUMMARY:Strange O'Clock - La Morue en Fête // Binic (22)
DESCRIPTION:
URL:https://tour2chauffe.org/event/strange-oclock-la-morue-en-fete-binic-22
LOCATION:Binic\, Binic\, Côte d'Armor\, 50520\, France
CATEGORIES:Strange O'Clock
ATTACH;FMTTYPE=image/jpeg:https://tour2chauffe.org/wp-content/uploads/2021/11/STRANGE-PHOTOS-1-7.jpg
ORGANIZER;CN="La morue en f%C3%AAte":MAILTO:secretariatlamorueenfete@gmail.com
END:VEVENT
BEGIN:VEVENT
DTSTART;VALUE=DATE:20220501
DTEND;VALUE=DATE:20220502
DTSTAMP:20260423T153658
CREATED:20220425T094058Z
LAST-MODIFIED:20220425T094058Z
UID:6211-1651363200-1651449599@tour2chauffe.org
SUMMARY:Strange O'Clock -Sienne à Vélo // Regnéville sur Mer (50)
DESCRIPTION:
URL:https://tour2chauffe.org/event/strange-oclock-sienne-a-velo-regneville-sur-mer-50
LOCATION:Régnéville-sur-Mer
CATEGORIES:Strange O'Clock
ATTACH;FMTTYPE=image/jpeg:https://tour2chauffe.org/wp-content/uploads/2021/11/18.jpg
END:VEVENT
BEGIN:VEVENT
DTSTART;TZID=Europe/Paris:20220329T080000
DTEND;TZID=Europe/Paris:20220329T170000
DTSTAMP:20260423T153658
CREATED:20220329T150352Z
LAST-MODIFIED:20220329T150352Z
UID:6050-1648540800-1648573200@tour2chauffe.org
SUMMARY:Strange O'Clock - au marché // Betton (35)
DESCRIPTION:
URL:https://tour2chauffe.org/event/strange-oclock-au-marche-betton-35
LOCATION:Betton\, Betton\, France
CATEGORIES:Strange O'Clock
ATTACH;FMTTYPE=image/jpeg:https://tour2chauffe.org/wp-content/uploads/2021/11/18.jpg
END:VEVENT
BEGIN:VEVENT
DTSTART;VALUE=DATE:20210513
DTEND;VALUE=DATE:20210517
DTSTAMP:20260423T153658
CREATED:20210125T142310Z
LAST-MODIFIED:20210125T142310Z
UID:5282-1620864000-1621209599@tour2chauffe.org
SUMMARY:STRANGE O'CLOCK - Morue en Fête
DESCRIPTION:
URL:https://tour2chauffe.org/event/strange-oclock-morue-fete
LOCATION:Morue en Fête\, Binic\, 22520
CATEGORIES:Strange O'Clock
ATTACH;FMTTYPE=image/png:https://tour2chauffe.org/wp-content/uploads/2018/02/strane-oclock-web.png
END:VEVENT
BEGIN:VEVENT
DTSTART;VALUE=DATE:20210213
DTEND;VALUE=DATE:20210214
DTSTAMP:20260423T153658
CREATED:20210125T154745Z
LAST-MODIFIED:20210125T154745Z
UID:5348-1613174400-1613260799@tour2chauffe.org
SUMMARY:STRANGE O'CLOCK - Le P'tit Bar de la Mairie
DESCRIPTION:
URL:https://tour2chauffe.org/event/strange-oclock-ptit-bar-de-mairie
LOCATION:Le P’tit Bar de la Mairie\, Sainte-Marie-d'Attez\, 27160\, France
CATEGORIES:Strange O'Clock
ATTACH;FMTTYPE=image/png:https://tour2chauffe.org/wp-content/uploads/2018/02/strane-oclock-web.png
END:VEVENT
BEGIN:VEVENT
DTSTART;VALUE=DATE:20201213
DTEND;VALUE=DATE:20201214
DTSTAMP:20260423T153658
CREATED:20201209T112404Z
LAST-MODIFIED:20201209T112404Z
UID:5141-1607817600-1607903999@tour2chauffe.org
SUMMARY:Sitala Band System - Dans Votre Salon #1
DESCRIPTION:Ils devaient ouvrir le mois du Burkina Faso le 6 novembre dernier mais le cours des choses en a décidé autrement. Rien n’est perdu… on vous invite à découvrir une partie du concert de Sitala Band System dans votre salon dimanche 13 décembre et l’intégralité en novembre 2021 !…\n\nLe résultat est pétillant\, basé sur de fortes rythmiques traditionnelles et coloré des influences et inspirations nouvelles de chacun des membres de ce groupe. \nOn retrouve par exemple Cély plus connue comme chanteuse du groupe Strange o’clock ou encore le griot et percussionniste Abdoulaye Konate.\n\n\n\nUn rendez-vous parfait pour revivre ensemble les émotions d’un concert et échanger en live pendant la diffusion\, et illuminer notre dimanche !\nDimanche 13/12 à 18H00 sur les pages facebook de:\n\nEspace Culturel de l’Hermine\nSitala France\nChauffer dans la Noirceur\nLabel Tour2Chauffe\n\n 
URL:https://tour2chauffe.org/event/sitala-band-system-salon-1
LOCATION:L’Hermine\, rue du Père Coudrin\, Sarzeau\, 56370\, France
CATEGORIES:Strange O'Clock
ATTACH;FMTTYPE=image/jpeg:https://tour2chauffe.org/wp-content/uploads/2020/12/129669509_3741983082546651_4940039214602046644_n.jpg
END:VEVENT
BEGIN:VEVENT
DTSTART;VALUE=DATE:20201120
DTEND;VALUE=DATE:20201121
DTSTAMP:20260423T153658
CREATED:20201027T122745Z
LAST-MODIFIED:20201027T124334Z
UID:5067-1605830400-1605916799@tour2chauffe.org
SUMMARY:Strange O'Clock - Chauffer dans tes Cinés
DESCRIPTION:À l’occasion de Chauffer dans tes Cinés\, retrouvez Strange O’Clock en ciné-concert à 20h30 au cinéma Le Select de Granville. \nLe concert est suivi par la diffusion du film Billie  de James Erskine. \n[ Plus d’infos ]
URL:https://tour2chauffe.org/event/strange-oclock-chauffer-cines
LOCATION:Le Select\, 7 Boulevard d'Hauteserve\, Granville\, 50400\, France
CATEGORIES:Strange O'Clock
ATTACH;FMTTYPE=image/png:https://tour2chauffe.org/wp-content/uploads/2018/02/strane-oclock-web.png
END:VEVENT
END:VCALENDAR