BEGIN:VCALENDAR
VERSION:2.0
PRODID:-//Tour2Chauffe - ECPv6.15.20//NONSGML v1.0//EN
CALSCALE:GREGORIAN
METHOD:PUBLISH
X-WR-CALNAME:Tour2Chauffe
X-ORIGINAL-URL:https://tour2chauffe.org
X-WR-CALDESC:Évènements pour Tour2Chauffe
REFRESH-INTERVAL;VALUE=DURATION:PT1H
X-Robots-Tag:noindex
X-PUBLISHED-TTL:PT1H
BEGIN:VTIMEZONE
TZID:Europe/Paris
BEGIN:DAYLIGHT
TZOFFSETFROM:+0100
TZOFFSETTO:+0200
TZNAME:CEST
DTSTART:20190331T010000
END:DAYLIGHT
BEGIN:STANDARD
TZOFFSETFROM:+0200
TZOFFSETTO:+0100
TZNAME:CET
DTSTART:20191027T010000
END:STANDARD
BEGIN:DAYLIGHT
TZOFFSETFROM:+0100
TZOFFSETTO:+0200
TZNAME:CEST
DTSTART:20200329T010000
END:DAYLIGHT
BEGIN:STANDARD
TZOFFSETFROM:+0200
TZOFFSETTO:+0100
TZNAME:CET
DTSTART:20201025T010000
END:STANDARD
BEGIN:DAYLIGHT
TZOFFSETFROM:+0100
TZOFFSETTO:+0200
TZNAME:CEST
DTSTART:20210328T010000
END:DAYLIGHT
BEGIN:STANDARD
TZOFFSETFROM:+0200
TZOFFSETTO:+0100
TZNAME:CET
DTSTART:20211031T010000
END:STANDARD
END:VTIMEZONE
BEGIN:VEVENT
DTSTART;VALUE=DATE:20201120
DTEND;VALUE=DATE:20201121
DTSTAMP:20260423T121652
CREATED:20201027T113626Z
LAST-MODIFIED:20201027T121942Z
UID:5060-1605830400-1605916799@tour2chauffe.org
SUMMARY:TROTSKI NAUTIQUE - Chauffer dans tes Cinés
DESCRIPTION:À l’occasion de Chauffer dans tes Cinés\, retrouvez Trotski Nautique en ciné-concert à 20h15 au cinéma Star à Avranches. \nLe concert est suivi par la diffusion du film Leto de Kirill Serebrennikov. \n[ Plus d’infos ]
URL:https://tour2chauffe.org/event/trotski-nautique-chauffer-cine
LOCATION:Le Star\, 49 rue de la Constitution\, Avranches\, 50300\, France
CATEGORIES:TROTSKI NAUTIQUE
ATTACH;FMTTYPE=image/jpeg:https://tour2chauffe.org/wp-content/uploads/2018/02/TN.jpg
END:VEVENT
END:VCALENDAR